BEGIN:VCALENDAR
VERSION:2.0
PRODID:-//wp-events-plugin.com//7.2.3.1//EN
TZID:Africa/Johannesburg
X-WR-TIMEZONE:Africa/Johannesburg
BEGIN:VEVENT
UID:24@ngi.ac.za
DTSTART;TZID=Africa/Johannesburg;VALUE=DATE:20230630
DTEND;TZID=Africa/Johannesburg;VALUE=DATE:20230701
DTSTAMP:20230221T220331Z
URL:https://www.ngi.ac.za/events/results-released/
SUMMARY:Results released
DESCRIPTION:
CATEGORIES:Academic
END:VEVENT
BEGIN:VTIMEZONE
TZID:Africa/Johannesburg
X-LIC-LOCATION:Africa/Johannesburg
BEGIN:STANDARD
DTSTART:20220630T000000
TZOFFSETFROM:+0200
TZOFFSETTO:+0200
TZNAME:SAST
END:STANDARD
END:VTIMEZONE
END:VCALENDAR