BEGIN:VCALENDAR
VERSION:2.0
PRODID:-//wp-events-plugin.com//7.2.3.1//EN
TZID:Africa/Johannesburg
X-WR-TIMEZONE:Africa/Johannesburg
BEGIN:VEVENT
UID:145@ngi.ac.za
DTSTART;TZID=Africa/Johannesburg;VALUE=DATE:20260713
DTEND;TZID=Africa/Johannesburg;VALUE=DATE:20260718
DTSTAMP:20251009T091707Z
URL:https://www.ngi.ac.za/events/supplementary-exams-4/
SUMMARY:Supplementary Exams
DESCRIPTION:
CATEGORIES:Supplementary exams
END:VEVENT
BEGIN:VTIMEZONE
TZID:Africa/Johannesburg
X-LIC-LOCATION:Africa/Johannesburg
BEGIN:STANDARD
DTSTART:20250713T000000
TZOFFSETFROM:+0200
TZOFFSETTO:+0200
TZNAME:SAST
END:STANDARD
END:VTIMEZONE
END:VCALENDAR